BEGIN:VCALENDAR
VERSION:2.0
PRODID:-//Musikkapelle Hödeken e.V. - ECPv6.15.20//NONSGML v1.0//EN
CALSCALE:GREGORIAN
METHOD:PUBLISH
X-WR-CALNAME:Musikkapelle Hödeken e.V.
X-ORIGINAL-URL:https://xn--hdeken-wxa.de/musikkapellehoedeken
X-WR-CALDESC:Veranstaltungen für Musikkapelle Hödeken e.V.
REFRESH-INTERVAL;VALUE=DURATION:PT1H
X-Robots-Tag:noindex
X-PUBLISHED-TTL:PT1H
BEGIN:VTIMEZONE
TZID:Europe/Berlin
BEGIN:DAYLIGHT
TZOFFSETFROM:+0100
TZOFFSETTO:+0200
TZNAME:CEST
DTSTART:20250330T010000
END:DAYLIGHT
BEGIN:STANDARD
TZOFFSETFROM:+0200
TZOFFSETTO:+0100
TZNAME:CET
DTSTART:20251026T010000
END:STANDARD
BEGIN:DAYLIGHT
TZOFFSETFROM:+0100
TZOFFSETTO:+0200
TZNAME:CEST
DTSTART:20260329T010000
END:DAYLIGHT
BEGIN:STANDARD
TZOFFSETFROM:+0200
TZOFFSETTO:+0100
TZNAME:CET
DTSTART:20261025T010000
END:STANDARD
BEGIN:DAYLIGHT
TZOFFSETFROM:+0100
TZOFFSETTO:+0200
TZNAME:CEST
DTSTART:20270328T010000
END:DAYLIGHT
BEGIN:STANDARD
TZOFFSETFROM:+0200
TZOFFSETTO:+0100
TZNAME:CET
DTSTART:20271031T010000
END:STANDARD
END:VTIMEZONE
BEGIN:VEVENT
DTSTART;TZID=Europe/Berlin:20260523T060000
DTEND;TZID=Europe/Berlin:20260523T080000
DTSTAMP:20260424T161341
CREATED:20260111T154129Z
LAST-MODIFIED:20260111T154129Z
UID:321-1779516000-1779523200@xn--hdeken-wxa.de
SUMMARY:Pfingstbier Weckenblasen
DESCRIPTION:
URL:https://xn--hdeken-wxa.de/musikkapellehoedeken/event/pfingstbier-weckenblasen/
END:VEVENT
BEGIN:VEVENT
DTSTART;TZID=Europe/Berlin:20260523T133000
DTEND;TZID=Europe/Berlin:20260523T153000
DTSTAMP:20260424T161341
CREATED:20260111T154212Z
LAST-MODIFIED:20260111T154212Z
UID:323-1779543000-1779550200@xn--hdeken-wxa.de
SUMMARY:Pfingstbier Woltershausen: Festumzug
DESCRIPTION:
URL:https://xn--hdeken-wxa.de/musikkapellehoedeken/event/pfingstbier-woltershausen-festumzug/
END:VEVENT
BEGIN:VEVENT
DTSTART;TZID=Europe/Berlin:20260523T153000
DTEND;TZID=Europe/Berlin:20260523T170000
DTSTAMP:20260424T161341
CREATED:20260111T154234Z
LAST-MODIFIED:20260111T154234Z
UID:325-1779550200-1779555600@xn--hdeken-wxa.de
SUMMARY:Pfingstbier Woltershausen: Platzkonzert
DESCRIPTION:
URL:https://xn--hdeken-wxa.de/musikkapellehoedeken/event/pfingstbier-woltershausen-platzkonzert/
END:VEVENT
BEGIN:VEVENT
DTSTART;TZID=Europe/Berlin:20260524T100000
DTEND;TZID=Europe/Berlin:20260524T120000
DTSTAMP:20260424T161341
CREATED:20260111T154303Z
LAST-MODIFIED:20260111T154303Z
UID:327-1779616800-1779624000@xn--hdeken-wxa.de
SUMMARY:Pfingstbier Woltershausen: Katerfrühstück
DESCRIPTION:
URL:https://xn--hdeken-wxa.de/musikkapellehoedeken/event/pfingstbier-woltershausen-katerfruehstueck/
END:VEVENT
BEGIN:VEVENT
DTSTART;TZID=Europe/Berlin:20260524T133000
DTEND;TZID=Europe/Berlin:20260524T150000
DTSTAMP:20260424T161341
CREATED:20260111T154331Z
LAST-MODIFIED:20260111T154331Z
UID:329-1779629400-1779634800@xn--hdeken-wxa.de
SUMMARY:Pfingstbier Woltershausen: Festumzug
DESCRIPTION:
URL:https://xn--hdeken-wxa.de/musikkapellehoedeken/event/pfingstbier-woltershausen-festumzug-2/
END:VEVENT
BEGIN:VEVENT
DTSTART;TZID=Europe/Berlin:20260524T153000
DTEND;TZID=Europe/Berlin:20260524T173000
DTSTAMP:20260424T161341
CREATED:20260111T154354Z
LAST-MODIFIED:20260111T154354Z
UID:331-1779636600-1779643800@xn--hdeken-wxa.de
SUMMARY:Pfingstbier Woltershausen: Platzkonzert
DESCRIPTION:
URL:https://xn--hdeken-wxa.de/musikkapellehoedeken/event/pfingstbier-woltershausen-platzkonzert-2/
END:VEVENT
BEGIN:VEVENT
DTSTART;TZID=Europe/Berlin:20260524T170000
DTEND;TZID=Europe/Berlin:20260524T180000
DTSTAMP:20260424T161341
CREATED:20260111T154418Z
LAST-MODIFIED:20260111T154418Z
UID:333-1779642000-1779645600@xn--hdeken-wxa.de
SUMMARY:Pfingstbier Woltershausen: Fahne wegbringen
DESCRIPTION:
URL:https://xn--hdeken-wxa.de/musikkapellehoedeken/event/pfingstbier-woltershausen-fahne-wegbringen/
END:VEVENT
BEGIN:VEVENT
DTSTART;TZID=Europe/Berlin:20260621T100000
DTEND;TZID=Europe/Berlin:20260621T160000
DTSTAMP:20260424T161341
CREATED:20260111T154536Z
LAST-MODIFIED:20260111T154536Z
UID:337-1782036000-1782057600@xn--hdeken-wxa.de
SUMMARY:Platzkonzert "Katervesper" Seboldshausen
DESCRIPTION:Uhrzeit steht noch nicht fest
URL:https://xn--hdeken-wxa.de/musikkapellehoedeken/event/platzkonzert-katervesper-seboldshausen/
END:VEVENT
END:VCALENDAR